BEGIN:VCALENDAR
VERSION:2.0
PRODID:-//CAMRA North Herts - ECPv6.15.20//NONSGML v1.0//EN
CALSCALE:GREGORIAN
METHOD:PUBLISH
X-ORIGINAL-URL:https://northherts.camra.org.uk
X-WR-CALDESC:Events for CAMRA North Herts
REFRESH-INTERVAL;VALUE=DURATION:PT1H
X-Robots-Tag:noindex
X-PUBLISHED-TTL:PT1H
BEGIN:VTIMEZONE
TZID:Europe/London
BEGIN:DAYLIGHT
TZOFFSETFROM:+0000
TZOFFSETTO:+0100
TZNAME:BST
DTSTART:20240331T010000
END:DAYLIGHT
BEGIN:STANDARD
TZOFFSETFROM:+0100
TZOFFSETTO:+0000
TZNAME:GMT
DTSTART:20241027T010000
END:STANDARD
BEGIN:DAYLIGHT
TZOFFSETFROM:+0000
TZOFFSETTO:+0100
TZNAME:BST
DTSTART:20250330T010000
END:DAYLIGHT
BEGIN:STANDARD
TZOFFSETFROM:+0100
TZOFFSETTO:+0000
TZNAME:GMT
DTSTART:20251026T010000
END:STANDARD
BEGIN:DAYLIGHT
TZOFFSETFROM:+0000
TZOFFSETTO:+0100
TZNAME:BST
DTSTART:20260329T010000
END:DAYLIGHT
BEGIN:STANDARD
TZOFFSETFROM:+0100
TZOFFSETTO:+0000
TZNAME:GMT
DTSTART:20261025T010000
END:STANDARD
END:VTIMEZONE
BEGIN:VEVENT
DTSTART;VALUE=DATE:20250425
DTEND;VALUE=DATE:20250428
DTSTAMP:20260425T233128
CREATED:20250404T205733Z
LAST-MODIFIED:20250404T205733Z
UID:1319-1745539200-1745798399@northherts.camra.org.uk
SUMMARY:Beer Music Cider Fest at the Half Moon\, Hitchin
DESCRIPTION:We are super excited to welcome some old and new faces performing over the weekend along with what is looking like an amazing beer and cider list for you all to sample (this will not be available until the day of beer fest)
URL:https://northherts.camra.org.uk/event/beer-music-cider-fest-at-the-half-moon-hitchin/
CATEGORIES:Beer & Cider Festivals,Local Events
ATTACH;FMTTYPE=image/webp:https://northherts.camra.org.uk/wp-content/uploads/2024/10/halfmoon-hitchin.webp
END:VEVENT
BEGIN:VEVENT
DTSTART;TZID=Europe/London:20250425T200000
DTEND;TZID=Europe/London:20250425T230000
DTSTAMP:20260425T233128
CREATED:20250207T144100Z
LAST-MODIFIED:20250213T124124Z
UID:1232-1745611200-1745622000@northherts.camra.org.uk
SUMMARY:CAMRA North Herts AGM
DESCRIPTION:Taking place from 8 PM at the Orange Tree\, Baldock. A formal notice will be issued in due course.
URL:https://northherts.camra.org.uk/event/north-herts-camra-agm/
LOCATION:Orange Tree\, Baldock\, Norton Road\, Baldock\, SG7 5AW
CATEGORIES:Branch Meetings
ATTACH;FMTTYPE=image/webp:https://northherts.camra.org.uk/wp-content/uploads/2025/02/orange-tree-baldock.webp
END:VEVENT
END:VCALENDAR