BEGIN:VCALENDAR
VERSION:2.0
PRODID:-//CAMRA North Herts - ECPv6.15.20//NONSGML v1.0//EN
CALSCALE:GREGORIAN
METHOD:PUBLISH
X-WR-CALNAME:CAMRA North Herts
X-ORIGINAL-URL:https://northherts.camra.org.uk
X-WR-CALDESC:Events for CAMRA North Herts
REFRESH-INTERVAL;VALUE=DURATION:PT1H
X-Robots-Tag:noindex
X-PUBLISHED-TTL:PT1H
BEGIN:VTIMEZONE
TZID:Europe/London
BEGIN:DAYLIGHT
TZOFFSETFROM:+0000
TZOFFSETTO:+0100
TZNAME:BST
DTSTART:20240331T010000
END:DAYLIGHT
BEGIN:STANDARD
TZOFFSETFROM:+0100
TZOFFSETTO:+0000
TZNAME:GMT
DTSTART:20241027T010000
END:STANDARD
BEGIN:DAYLIGHT
TZOFFSETFROM:+0000
TZOFFSETTO:+0100
TZNAME:BST
DTSTART:20250330T010000
END:DAYLIGHT
BEGIN:STANDARD
TZOFFSETFROM:+0100
TZOFFSETTO:+0000
TZNAME:GMT
DTSTART:20251026T010000
END:STANDARD
BEGIN:DAYLIGHT
TZOFFSETFROM:+0000
TZOFFSETTO:+0100
TZNAME:BST
DTSTART:20260329T010000
END:DAYLIGHT
BEGIN:STANDARD
TZOFFSETFROM:+0100
TZOFFSETTO:+0000
TZNAME:GMT
DTSTART:20261025T010000
END:STANDARD
END:VTIMEZONE
BEGIN:VEVENT
DTSTART;VALUE=DATE:20250501
DTEND;VALUE=DATE:20250506
DTSTAMP:20260425T200914
CREATED:20250404T205431Z
LAST-MODIFIED:20250404T205431Z
UID:1316-1746057600-1746489599@northherts.camra.org.uk
SUMMARY:Indie Beer Festival at the Orange Tree\, Baldock
DESCRIPTION:Indie Beer Festival at the Orange Tree Public House – All weekend!  Fri 2nd\, Sat 3rd\, Sun 4th and Bank Holiday Monday 5th \nCask and Keg beers\, plus real ciders from small independent brewers. Live Music and Hot Food!
URL:https://northherts.camra.org.uk/event/indie-beer-festival-at-the-orange-tree-baldock/
LOCATION:Orange Tree\, Baldock\, Norton Road\, Baldock\, SG7 5AW
CATEGORIES:Beer & Cider Festivals,Local Events
ATTACH;FMTTYPE=image/webp:https://northherts.camra.org.uk/wp-content/uploads/2025/02/orange-tree-baldock.webp
END:VEVENT
END:VCALENDAR