BEGIN:VCALENDAR
VERSION:2.0
PRODID:-//CAMRA North Herts - ECPv6.15.20//NONSGML v1.0//EN
CALSCALE:GREGORIAN
METHOD:PUBLISH
X-ORIGINAL-URL:https://northherts.camra.org.uk
X-WR-CALDESC:Events for CAMRA North Herts
REFRESH-INTERVAL;VALUE=DURATION:PT1H
X-Robots-Tag:noindex
X-PUBLISHED-TTL:PT1H
BEGIN:VTIMEZONE
TZID:Europe/London
BEGIN:DAYLIGHT
TZOFFSETFROM:+0000
TZOFFSETTO:+0100
TZNAME:BST
DTSTART:20240331T010000
END:DAYLIGHT
BEGIN:STANDARD
TZOFFSETFROM:+0100
TZOFFSETTO:+0000
TZNAME:GMT
DTSTART:20241027T010000
END:STANDARD
BEGIN:DAYLIGHT
TZOFFSETFROM:+0000
TZOFFSETTO:+0100
TZNAME:BST
DTSTART:20250330T010000
END:DAYLIGHT
BEGIN:STANDARD
TZOFFSETFROM:+0100
TZOFFSETTO:+0000
TZNAME:GMT
DTSTART:20251026T010000
END:STANDARD
BEGIN:DAYLIGHT
TZOFFSETFROM:+0000
TZOFFSETTO:+0100
TZNAME:BST
DTSTART:20260329T010000
END:DAYLIGHT
BEGIN:STANDARD
TZOFFSETFROM:+0100
TZOFFSETTO:+0000
TZNAME:GMT
DTSTART:20261025T010000
END:STANDARD
END:VTIMEZONE
BEGIN:VEVENT
DTSTART;TZID=Europe/London:20250519T160000
DTEND;TZID=Europe/London:20250524T230000
DTSTAMP:20260425T233136
CREATED:20250207T144712Z
LAST-MODIFIED:20250207T151712Z
UID:1237-1747670400-1748127600@northherts.camra.org.uk
SUMMARY:Cambridge Beer Festival 2025
DESCRIPTION:Save the date Cambridge Beer Festival.\nOur neighbours to the north-east at Cambridge & District CAMRA would welcome also volunteers. Keep an eye on their website\nhttps://www.cambridge-camra.org.uk/event/cambridge-beer-festival-2025/
URL:https://northherts.camra.org.uk/event/cambridge-beer-festival-2025/
LOCATION:Jesus Green\, Cambridge\, Jesus Green\, Cambridge\, CB4 1HA
CATEGORIES:Beer & Cider Festivals,Local Events
ATTACH;FMTTYPE=image/jpeg:https://northherts.camra.org.uk/wp-content/uploads/2025/02/cambridgebeerfest.jpg
END:VEVENT
END:VCALENDAR