BEGIN:VCALENDAR
VERSION:2.0
PRODID:-//CAMRA North Herts - ECPv6.15.20//NONSGML v1.0//EN
CALSCALE:GREGORIAN
METHOD:PUBLISH
X-WR-CALNAME:CAMRA North Herts
X-ORIGINAL-URL:https://northherts.camra.org.uk
X-WR-CALDESC:Events for CAMRA North Herts
REFRESH-INTERVAL;VALUE=DURATION:PT1H
X-Robots-Tag:noindex
X-PUBLISHED-TTL:PT1H
BEGIN:VTIMEZONE
TZID:Europe/London
BEGIN:DAYLIGHT
TZOFFSETFROM:+0000
TZOFFSETTO:+0100
TZNAME:BST
DTSTART:20240331T010000
END:DAYLIGHT
BEGIN:STANDARD
TZOFFSETFROM:+0100
TZOFFSETTO:+0000
TZNAME:GMT
DTSTART:20241027T010000
END:STANDARD
BEGIN:DAYLIGHT
TZOFFSETFROM:+0000
TZOFFSETTO:+0100
TZNAME:BST
DTSTART:20250330T010000
END:DAYLIGHT
BEGIN:STANDARD
TZOFFSETFROM:+0100
TZOFFSETTO:+0000
TZNAME:GMT
DTSTART:20251026T010000
END:STANDARD
BEGIN:DAYLIGHT
TZOFFSETFROM:+0000
TZOFFSETTO:+0100
TZNAME:BST
DTSTART:20260329T010000
END:DAYLIGHT
BEGIN:STANDARD
TZOFFSETFROM:+0100
TZOFFSETTO:+0000
TZNAME:GMT
DTSTART:20261025T010000
END:STANDARD
END:VTIMEZONE
BEGIN:VEVENT
DTSTART;TZID=Europe/London:20250528T130000
DTEND;TZID=Europe/London:20250528T200000
DTSTAMP:20260425T200915
CREATED:20250528T221447Z
LAST-MODIFIED:20250528T221450Z
UID:1439-1748437200-1748462400@northherts.camra.org.uk
SUMMARY:East Beds CAMRA Cycle Ride - STARTING IN HITCHIN!
DESCRIPTION:Join our neighbours in East Herts on a cycle trip!\nA fair part of the journey through North Herts territory this year. Meet 1pm at Half Moon\, Hitchin(The keener amongst us can\, of course\, cycle there to build up a thirst but for the less energetic there is a 12:15 train from Sandy). \nThe route then goes to Garden City Brewery\, Letchworth; Orange Tree\, Baldock; Stag\, Stotfold; Old Oak\, Arlesey; finishing at Engineers Arms\, Henlow. \n 
URL:https://northherts.camra.org.uk/event/east-beds-camra-cycle-ride-starting-in-hitchin/
LOCATION:The Half Moon\, Hitchin\, 57 Queen Street\, Hitchin\, SG4 9TZ
CATEGORIES:Local Events
ATTACH;FMTTYPE=image/jpeg:https://northherts.camra.org.uk/wp-content/uploads/2025/05/easthertscycle.jpg
END:VEVENT
END:VCALENDAR