BEGIN:VCALENDAR
VERSION:2.0
PRODID:-//CAMRA North Herts - ECPv6.15.20//NONSGML v1.0//EN
CALSCALE:GREGORIAN
METHOD:PUBLISH
X-WR-CALNAME:CAMRA North Herts
X-ORIGINAL-URL:https://northherts.camra.org.uk
X-WR-CALDESC:Events for CAMRA North Herts
REFRESH-INTERVAL;VALUE=DURATION:PT1H
X-Robots-Tag:noindex
X-PUBLISHED-TTL:PT1H
BEGIN:VTIMEZONE
TZID:Europe/London
BEGIN:DAYLIGHT
TZOFFSETFROM:+0000
TZOFFSETTO:+0100
TZNAME:BST
DTSTART:20240331T010000
END:DAYLIGHT
BEGIN:STANDARD
TZOFFSETFROM:+0100
TZOFFSETTO:+0000
TZNAME:GMT
DTSTART:20241027T010000
END:STANDARD
BEGIN:DAYLIGHT
TZOFFSETFROM:+0000
TZOFFSETTO:+0100
TZNAME:BST
DTSTART:20250330T010000
END:DAYLIGHT
BEGIN:STANDARD
TZOFFSETFROM:+0100
TZOFFSETTO:+0000
TZNAME:GMT
DTSTART:20251026T010000
END:STANDARD
BEGIN:DAYLIGHT
TZOFFSETFROM:+0000
TZOFFSETTO:+0100
TZNAME:BST
DTSTART:20260329T010000
END:DAYLIGHT
BEGIN:STANDARD
TZOFFSETFROM:+0100
TZOFFSETTO:+0000
TZNAME:GMT
DTSTART:20261025T010000
END:STANDARD
END:VTIMEZONE
BEGIN:VEVENT
DTSTART;TZID=Europe/London:20250819T173000
DTEND;TZID=Europe/London:20250823T220000
DTSTAMP:20260425T143845
CREATED:20250406T125828Z
LAST-MODIFIED:20250406T134115Z
UID:1325-1755624600-1755986400@northherts.camra.org.uk
SUMMARY:Peterborough Beer Festival
DESCRIPTION:The 46th Peterborough beer festival runs from 5:30pm on Tuesday 19th August 2025. \nThe festival is held in massive marquees on the river embankment in Peterborough. The site is about a 20 minute walk from Peterborough railway station and bus/coach station. Taxis are available at the railway station and bus station and we provide a drop off/taxi rank near the Key Theatre at the entrance to the Embankment.
URL:https://northherts.camra.org.uk/event/peterborough-beer-festival/
LOCATION:The Embankment\, The Embankment\, Embankment Road\, Peterborough\, PE1 1EF
CATEGORIES:Beer & Cider Festivals,Local Events
ATTACH;FMTTYPE=image/jpeg:https://northherts.camra.org.uk/wp-content/uploads/2025/04/32673.jpg
END:VEVENT
BEGIN:VEVENT
DTSTART;TZID=Europe/London:20250820T200000
DTEND;TZID=Europe/London:20250820T230000
DTSTAMP:20260425T143846
CREATED:20250505T104530Z
LAST-MODIFIED:20250505T104530Z
UID:1397-1755720000-1755730800@northherts.camra.org.uk
SUMMARY:Royston Summer Social Evening
DESCRIPTION:Join Branch members as we sample the ales starting at The Heath Café Bar\, off Baldock Road\, SG8 5BG at 8pm. We suggest non-locals arriving by train choose one to arrive by 7:30 for the walk out of town. We’ll then walk back to the King James\, Jolly Postie & the Manor House.
URL:https://northherts.camra.org.uk/event/royston-summer-social-evening/
LOCATION:The Heath Café Bar\, Royston\, Baldock Road\, Royston\, SG8 5BG\, United Kingdom
CATEGORIES:Branch Events,Local Events
ATTACH;FMTTYPE=image/webp:https://northherts.camra.org.uk/wp-content/uploads/2025/05/Heath-Cafe-Bar.webp
END:VEVENT
END:VCALENDAR