BEGIN:VCALENDAR
VERSION:2.0
PRODID:-//CAMRA North Herts - ECPv6.15.20//NONSGML v1.0//EN
CALSCALE:GREGORIAN
METHOD:PUBLISH
X-WR-CALNAME:CAMRA North Herts
X-ORIGINAL-URL:https://northherts.camra.org.uk
X-WR-CALDESC:Events for CAMRA North Herts
REFRESH-INTERVAL;VALUE=DURATION:PT1H
X-Robots-Tag:noindex
X-PUBLISHED-TTL:PT1H
BEGIN:VTIMEZONE
TZID:Europe/London
BEGIN:DAYLIGHT
TZOFFSETFROM:+0000
TZOFFSETTO:+0100
TZNAME:BST
DTSTART:20230326T010000
END:DAYLIGHT
BEGIN:STANDARD
TZOFFSETFROM:+0100
TZOFFSETTO:+0000
TZNAME:GMT
DTSTART:20231029T010000
END:STANDARD
BEGIN:DAYLIGHT
TZOFFSETFROM:+0000
TZOFFSETTO:+0100
TZNAME:BST
DTSTART:20240331T010000
END:DAYLIGHT
BEGIN:STANDARD
TZOFFSETFROM:+0100
TZOFFSETTO:+0000
TZNAME:GMT
DTSTART:20241027T010000
END:STANDARD
BEGIN:DAYLIGHT
TZOFFSETFROM:+0000
TZOFFSETTO:+0100
TZNAME:BST
DTSTART:20250330T010000
END:DAYLIGHT
BEGIN:STANDARD
TZOFFSETFROM:+0100
TZOFFSETTO:+0000
TZNAME:GMT
DTSTART:20251026T010000
END:STANDARD
BEGIN:DAYLIGHT
TZOFFSETFROM:+0000
TZOFFSETTO:+0100
TZNAME:BST
DTSTART:20260329T010000
END:DAYLIGHT
BEGIN:STANDARD
TZOFFSETFROM:+0100
TZOFFSETTO:+0000
TZNAME:GMT
DTSTART:20261025T010000
END:STANDARD
BEGIN:DAYLIGHT
TZOFFSETFROM:+0000
TZOFFSETTO:+0100
TZNAME:BST
DTSTART:20270328T010000
END:DAYLIGHT
BEGIN:STANDARD
TZOFFSETFROM:+0100
TZOFFSETTO:+0000
TZNAME:GMT
DTSTART:20271031T010000
END:STANDARD
END:VTIMEZONE
BEGIN:VEVENT
DTSTART;TZID=Europe/London:20260417T200000
DTEND;TZID=Europe/London:20260417T220000
DTSTAMP:20260422T114534
CREATED:20260314T103219Z
LAST-MODIFIED:20260314T103219Z
UID:1736-1776456000-1776463200@northherts.camra.org.uk
SUMMARY:Hitchin Beer & Cider Festival New Volunteers Open Evening
DESCRIPTION:If you have never volunteered with us before and want to find out more about what it means and how it all works then why not come to our open evening on Friday 17th April from 8pm – 10pm at Hitchin Rugby Club. Members of CAMRA (Any branch) or Hitchin Rugby Club welcome. \nFor further details contact volunteering@northherts.camra.org.uk \nFor further details of the festival itself please go to Https://hitchinbeerciderfestival.org.uk
URL:https://northherts.camra.org.uk/event/hitchin-beer-cider-festival-new-volunteers-open-evening/
LOCATION:Hitchin Rugby Club\, Old Hale Way\, Hitchin\, SG5 1XL\, United Kingdom
CATEGORIES:Branch Events,Local Events
ATTACH;FMTTYPE=image/jpeg:https://northherts.camra.org.uk/wp-content/uploads/2026/03/1000028918.jpg
END:VEVENT
BEGIN:VEVENT
DTSTART;TZID=Europe/London:20260417T200000
DTEND;TZID=Europe/London:20260417T220000
DTSTAMP:20260422T114534
CREATED:20260312T194159Z
LAST-MODIFIED:20260312T194217Z
UID:1730-1776456000-1776463200@northherts.camra.org.uk
SUMMARY:Hitchin Beer & Cider Festival New Volunteers Evening
DESCRIPTION:Thought about volunteering for the Hitchin beer festival but unsure where to start or what it involves? \nCome to Hitchin Rugby Club between 8 – 10pm on Friday 17th April to find out more! \nOpen to all Hitchin Rugby Club and CAMRA members (any branch)
URL:https://northherts.camra.org.uk/event/hitchin-beer-cider-festival-new-volunteers-evening/
LOCATION:Hitchin Rugby Club\, Old Hale Way\, Hitchin\, SG5 1XL\, United Kingdom
CATEGORIES:Branch Events
ATTACH;FMTTYPE=image/jpeg:https://northherts.camra.org.uk/wp-content/uploads/2026/03/1000028918.jpg
END:VEVENT
BEGIN:VEVENT
DTSTART;TZID=Europe/London:20260415T200000
DTEND;TZID=Europe/London:20260415T230000
DTSTAMP:20260422T114534
CREATED:20260127T222651Z
LAST-MODIFIED:20260127T222959Z
UID:1681-1776283200-1776294000@northherts.camra.org.uk
SUMMARY:Baldock Social
DESCRIPTION:Wednesday\, 15th April 2026 \nMeet at 8pm at Old White Horse\, Baldock then onto White Lion\, Cock and Orange Tree
URL:https://northherts.camra.org.uk/event/baldock-social-3/
LOCATION:Old White Horse\, Baldock\, 1 Station Road\, Baldock\, SG7 5BS
CATEGORIES:Branch Events
ATTACH;FMTTYPE=image/webp:https://northherts.camra.org.uk/wp-content/uploads/2025/02/oldwhitehorsebaldock.webp
END:VEVENT
BEGIN:VEVENT
DTSTART;TZID=Europe/London:20260311T200000
DTEND;TZID=Europe/London:20260311T230000
DTSTAMP:20260422T114534
CREATED:20260127T222412Z
LAST-MODIFIED:20260127T223156Z
UID:1678-1773259200-1773270000@northherts.camra.org.uk
SUMMARY:Royston Social
DESCRIPTION:11 March 2026 \nMeet at 8pm at King James\, Royston then onto Jolly Postie\, Bull and Manor House
URL:https://northherts.camra.org.uk/event/royston-social/
LOCATION:King James\, Royston\, 14 Kneesworth Street\, Royston\, SG8 5AA\, United Kingdom
CATEGORIES:Branch Events
ATTACH;FMTTYPE=image/jpeg:https://northherts.camra.org.uk/wp-content/uploads/2026/01/eyJidWNrZXQiOiJ3aGF0cHViIiwia2V5IjoiSEVOXC9IRU4rNjI0LTE1MDAtMjA0OC0xNzYwLmpwZyIsImVkaXRzIjp7InJlc2l6ZSI6eyJ3aWR0aCI6ODAwLCJoZWlnaHQiOjYwMCwiZml0IjoiY292ZXIifSwicm90YXRlIjpudWxsfX0.jpeg
END:VEVENT
BEGIN:VEVENT
DTSTART;TZID=Europe/London:20260211T200000
DTEND;TZID=Europe/London:20260211T230000
DTSTAMP:20260422T114534
CREATED:20260123T175237Z
LAST-MODIFIED:20260123T180342Z
UID:1676-1770840000-1770850800@northherts.camra.org.uk
SUMMARY:Hitchin Social
DESCRIPTION:Join us on Wednesday 11th February Starting at 8pm in The Victoria\, then visiting Coopers Arms\, BB’s Bar and the Half Moon.
URL:https://northherts.camra.org.uk/event/hitchin-social-2/
LOCATION:The Victoria\, Hitchin\, 1 Ickleford Rd\, Hitchin\, SG5 1TJ
CATEGORIES:Branch Events,Local Events
ATTACH;FMTTYPE=image/webp:https://northherts.camra.org.uk/wp-content/uploads/2025/02/victoria.webp
END:VEVENT
BEGIN:VEVENT
DTSTART;TZID=Europe/London:20260122T200000
DTEND;TZID=Europe/London:20260122T230000
DTSTAMP:20260422T114534
CREATED:20260122T100502Z
LAST-MODIFIED:20260122T100502Z
UID:1674-1769112000-1769122800@northherts.camra.org.uk
SUMMARY:Branch Meeting
DESCRIPTION:Branch meeting at the Orange Tree\, Baldock\, 8pm
URL:https://northherts.camra.org.uk/event/branch-meeting-2/
LOCATION:Orange Tree\, Baldock\, Norton Road\, Baldock\, SG7 5AW
CATEGORIES:Branch Events,Branch Meetings
ATTACH;FMTTYPE=image/webp:https://northherts.camra.org.uk/wp-content/uploads/2025/02/orange-tree-baldock.webp
ORGANIZER;CN="CAMRA Events":MAILTO:events@camra.org.uk
END:VEVENT
BEGIN:VEVENT
DTSTART;TZID=Europe/London:20260114T200000
DTEND;TZID=Europe/London:20260114T223000
DTSTAMP:20260422T114534
CREATED:20260114T172645Z
LAST-MODIFIED:20260114T172752Z
UID:1670-1768420800-1768429800@northherts.camra.org.uk
SUMMARY:Stevenage Old Town Social
DESCRIPTION:Meet at 8pm in the Standing Order\, then visiting the Broken Seal\, Red Lion and Chequers Beer House.
URL:https://northherts.camra.org.uk/event/stevenage-old-town-social/
LOCATION:Stevenage Old Town\, Old Town Bar\, 46 High Street\, Stevenage\, SG1 3EF\, United Kingdom
CATEGORIES:Branch Events
ATTACH;FMTTYPE=image/jpeg:https://northherts.camra.org.uk/wp-content/uploads/2026/01/eyJidWNrZXQiOiJ3aGF0cHViIiwia2V5IjoiSEVOXC9IRU4rNzgwLTE1NjgtMjA0OC0xNTM1LmpwZyIsImVkaXRzIjp7InJlc2l6ZSI6eyJ3aWR0aCI6ODAwLCJoZWlnaHQiOjYwMCwiZml0IjoiY292ZXIifSwicm90YXRlIjpudWxsfX0.jpeg
END:VEVENT
BEGIN:VEVENT
DTSTART;TZID=Europe/London:20251212T193000
DTEND;TZID=Europe/London:20251212T230000
DTSTAMP:20260422T114534
CREATED:20251108T163609Z
LAST-MODIFIED:20251202T155427Z
UID:1649-1765567800-1765580400@northherts.camra.org.uk
SUMMARY:Traditional Pre-Christmas Hitchin Social
DESCRIPTION:Meet at 7:30pm at the Radcliffe arms for our annual Hitchin Christmas crawl – Christmas jumpers optional! \n  \n 
URL:https://northherts.camra.org.uk/event/hitchin-christmas-social/
LOCATION:The Radcliffe Arms\, Hitchin\, 31 Walsworth Road\, Hitchin\, SG4 9ST
CATEGORIES:Branch Events
ATTACH;FMTTYPE=image/png:https://northherts.camra.org.uk/wp-content/uploads/2024/10/Radcliffeoldphoto.png
END:VEVENT
BEGIN:VEVENT
DTSTART;TZID=Europe/London:20251206T150000
DTEND;TZID=Europe/London:20251206T170000
DTSTAMP:20260422T114534
CREATED:20251022T140049Z
LAST-MODIFIED:20251025T154233Z
UID:1617-1765033200-1765040400@northherts.camra.org.uk
SUMMARY:Hertfordshire Beer of the Year Presentation
DESCRIPTION:Crossover Blendery’s Persia 2023 won  Hertfordshire Beer of the Year (Keg) as judged at the 2025 St Albans Beer & Cider Festival in September. \nWe’ll be at Crossover Blendery taproom along with and representatives of other Herts CAMRA branches to see the winner’s presentation and those to joint second place Baron Brewing for Fuzz\, and Six Hills Brewing for Pining for the Fjords. This is the date of the Winter Market at Lannock Farm\, where Crossover is based.
URL:https://northherts.camra.org.uk/event/hertfordshire-beer-of-the-year-presentation/
LOCATION:Crossover Blendery\, Weston\, Lannock Manor Farm\, Lannock Hill\, Weston\, SG4 7EE
CATEGORIES:Branch Events,Local Events
ATTACH;FMTTYPE=image/jpeg:https://northherts.camra.org.uk/wp-content/uploads/2025/10/eyJidWNrZXQiOiJ3aGF0cHViIiwia2V5IjoiSEVOXC9IRU4rNDA3MC0xNDkyLTIwNDgtMTUzNi5qcGciLCJlZGl0cyI6eyJyZXNpemUiOnsid2lkdGgiOjgwMCwiaGVpZ2h0Ijo2MDAsImZpdCI6ImNvdmVyIn0sInJvdGF0ZSI6bnVsbH19.jpeg
END:VEVENT
BEGIN:VEVENT
DTSTART;TZID=Europe/London:20251129T123000
DTEND;TZID=Europe/London:20251129T200000
DTSTAMP:20260422T114534
CREATED:20251108T163333Z
LAST-MODIFIED:20251129T130345Z
UID:1646-1764419400-1764446400@northherts.camra.org.uk
SUMMARY:Hertford Ale Trail - UPDATE
DESCRIPTION:There are no trains running from Stevenage to Hertford North. \nOn 26th November\, we join with South Herts to take part in their Autumn Hertford Ale trail. \nJohn will be at Stevenage station (platform 5) to catch the 12:30pm train to Hertford North\, all welcome to join him. \nTrail timetable: \n1.00pm – Black Horse\, West Street (Free House) \n1.45pm – White Horse\, Castle Street (Admiral Tavern) \n2.30pm – Cow & Stout\, Fore Street (Free House) \n3.15pm – Old Barge\, The Folly (Free House) \n4.00pm – Hertford Club\, Bull Plain (Free House) \n4.45pm – Six Templars\, The Wash (Wetherspoon) \n5.30pm – Woolpack\, Millbridge (McMullen) \n6.15pm – Old Cross Tavern\, St. Andrew St. (Free House) \n 
URL:https://northherts.camra.org.uk/event/hertford-ale-trail/
LOCATION:Black Horse\, Hertford\, 29-31 West Street\, Hertford\, SG13 8EZ\, United Kingdom
CATEGORIES:Branch Events,Local Events
ATTACH;FMTTYPE=image/jpeg:https://northherts.camra.org.uk/wp-content/uploads/2025/11/eyJidWNrZXQiOiJ3aGF0cHViIiwia2V5IjoiU0hFXC9TSEUrMzczLTIyMS0yMDAtMTM1LmpwZyIsImVkaXRzIjp7InJlc2l6ZSI6eyJ3aWR0aCI6MjAwLCJoZWlnaHQiOjEzNSwiZml0IjoiY292ZXIifSwicm90YXRlIjpudWxsfX0.jpeg
END:VEVENT
BEGIN:VEVENT
DTSTART;TZID=Europe/London:20251119T200000
DTEND;TZID=Europe/London:20251119T230000
DTSTAMP:20260422T114534
CREATED:20251021T151603Z
LAST-MODIFIED:20251021T151603Z
UID:1610-1763582400-1763593200@northherts.camra.org.uk
SUMMARY:Letchworth Social
DESCRIPTION:Meet at Arena Tavern (8pm) then Craftys\, Garden City Brewery and the Three Magnets
URL:https://northherts.camra.org.uk/event/letchworth-social/
LOCATION:Arena Tavern\, Arena Tavern\, 3 Arena Parade\, Letchworth\, SG6 3BY
CATEGORIES:Branch Events
ATTACH;FMTTYPE=image/jpeg:https://northherts.camra.org.uk/wp-content/uploads/2025/10/eyJidWNrZXQiOiJ3aGF0cHViIiwia2V5IjoiSEVOXC9IRU4rNDgyLTEzMzctMjA0OC0xMzY2LmpwZyIsImVkaXRzIjp7InJlc2l6ZSI6eyJ3aWR0aCI6ODAwLCJoZWlnaHQiOjYwMCwiZml0IjoiY292ZXIifSwicm90YXRlIjpudWxsfX0.jpeg
END:VEVENT
BEGIN:VEVENT
DTSTART;TZID=Europe/London:20251106T193000
DTEND;TZID=Europe/London:20251106T220000
DTSTAMP:20260422T114534
CREATED:20251021T105418Z
LAST-MODIFIED:20251025T154328Z
UID:1602-1762457400-1762466400@northherts.camra.org.uk
SUMMARY:Meet the Brewer & Branch Meeting
DESCRIPTION:On Thursday 6th November\, we’ve been invited to meet Katie Sanders Pope\, the brewer of Old Cannon Brewery\, to taste some beers ahead of our branch meeting. Join us at 7:30 PM in Downtown Bar & Grill at the Broadway Hotel\, Letchworth\, which is one of the two ‘Innventure’ sites locally along with the Rusty Gun. There’ll be cask ales on tap and Katie will bring extras bag-in-box. RSVP to secure your place. Afterwards\, about 8:30\, we’ll discuss further plans for CAMRA North Herts events and other local pub & brewery matters. \nRSVP via E-mail chair@northherts.camra.org.uk
URL:https://northherts.camra.org.uk/event/branch-meeting/
LOCATION:Downtown Bar & Grill\, Broadway Hotel\, The Broadway\, Letchworth Garden City\, SG6 3NZ\, United Kingdom
CATEGORIES:Branch Events,Branch Meetings
ATTACH;FMTTYPE=image/jpeg:https://northherts.camra.org.uk/wp-content/uploads/2025/10/eyJidWNrZXQiOiJ3aGF0cHViIiwia2V5IjoiSEVOXC9IRU4rNDg0LTEyOTQtMjA0OC0xMzg3LmpwZyIsImVkaXRzIjp7InJlc2l6ZSI6eyJ3aWR0aCI6ODAwLCJoZWlnaHQiOjYwMCwiZml0IjoiY292ZXIifSwicm90YXRlIjpudWxsfX0.jpeg
END:VEVENT
BEGIN:VEVENT
DTSTART;TZID=Europe/London:20251029T200000
DTEND;TZID=Europe/London:20251029T230000
DTSTAMP:20260422T114534
CREATED:20251021T105018Z
LAST-MODIFIED:20251025T190518Z
UID:1600-1761768000-1761778800@northherts.camra.org.uk
SUMMARY:Baldock Social
DESCRIPTION:Branch Social \nWe meet at the Old White Horse at 8pm\, then visit the Cock\, White Lion and Orange Tree.
URL:https://northherts.camra.org.uk/event/baldock-social-2/
LOCATION:Old White Horse\, Baldock\, 1 Station Road\, Baldock\, SG7 5BS
CATEGORIES:Branch Events,Local Events
ATTACH;FMTTYPE=image/webp:https://northherts.camra.org.uk/wp-content/uploads/2025/02/oldwhitehorsebaldock.webp
END:VEVENT
BEGIN:VEVENT
DTSTART;TZID=Europe/London:20250920T094000
DTEND;TZID=Europe/London:20250920T170000
DTSTAMP:20260422T114534
CREATED:20250908T191832Z
LAST-MODIFIED:20250912T173441Z
UID:1551-1758361200-1758387600@northherts.camra.org.uk
SUMMARY:CIDER & PERRY TOUR IN CENTRAL LONDON
DESCRIPTION:We will be using one day travel cards. \nTrain times: \nRoyston 09:46\nBaldock 09:54\nLetchworth Garden City 09:57\nHitchin 10:02 \nAt Hitchin you change trains and meet the rest of us on the platform. We will be in coach 11 at the back of the train when we set off to Blackfriars. \nHitchin 10:11\nStevenage 10:16\nBlackfriars 10:53 \n11AM Blackfriars \nThis will be the meeting point if anyone from other branches wish to join us. \nWe will walk to Fleet Street and catch a bus to Charing Cross. From here we take the short walk to the Harp. \n1) The Harp\, Chandos Place 11:30 \nFrom here we will catch a train from Charing Cross to London Bridge and walk to the Cider Bar in Borough Market \n2) The Cider Bar Borough Market. 12:45 \nWe can use this as a lunch stop. Here you will find anything from full fat to vegan. The cider bar is happy for you to consume food at their premises. \nAfter here we will be visiting the following cider outlets. I have not put any times here as we can play it by ear as we go along. I aim to finish about 6 – 7ish. \n3) Roebuck. 50 Great Dover Street SE1 \n4) Craft Beer. 168 High Holborn WC1 \n5) Perserverance. Lambs Conduit St. WC1 \n6) Queens Head. 66 Acton St WC1 \n7) King Charles 1st. 55 – 57 Northdown St N1 \nFrom here it is a short walk back to Kings Cross St Pancras where we will say our goodbyes and make our respective ways home
URL:https://northherts.camra.org.uk/event/cider-perry-tour-in-central-london/
CATEGORIES:Branch Events,Local Events
ATTACH;FMTTYPE=image/png:https://northherts.camra.org.uk/wp-content/uploads/2024/10/CAMRA-Cider-and-Perry.png
END:VEVENT
BEGIN:VEVENT
DTSTART;TZID=Europe/London:20250918T200000
DTEND;TZID=Europe/London:20250918T220000
DTSTAMP:20260422T114534
CREATED:20250504T061855Z
LAST-MODIFIED:20250813T133834Z
UID:1386-1758225600-1758232800@northherts.camra.org.uk
SUMMARY:September Branch Meeting
DESCRIPTION:September’s branch meeting will be held at the storeroom in Letchworth next to Garden City brewery at 8pm on Thursday 18th September. \n 
URL:https://northherts.camra.org.uk/event/september-branch-meeting/
LOCATION:The Storeroom\, Next to GCB\, LGC\, SG6 4DE
CATEGORIES:Branch Events,Branch Meetings
ATTACH;FMTTYPE=image/gif:https://northherts.camra.org.uk/wp-content/uploads/2025/01/CAMRA-Branch-Trial-1-cropped.gif
END:VEVENT
BEGIN:VEVENT
DTSTART;TZID=Europe/London:20250906T130000
DTEND;TZID=Europe/London:20250906T183000
DTSTAMP:20260422T114534
CREATED:20250505T105021Z
LAST-MODIFIED:20250826T220555Z
UID:1401-1757163600-1757183400@northherts.camra.org.uk
SUMMARY:Country Cycle Tour - updated time and details
DESCRIPTION:UPDATED \nMeet at Station Pub\, Knebworth at 13:00. Riders can arrive by train if coming from far afield. On to Robin Hood & Little John\, then Lytton Arms\, Strathmore Arms\, Red\nLion at Preston\, then down the hill to the Hermit of Redcoats\, before\nfinishing at Stevenage train station. \nSunset is about 19:30\, so the plan is to be finished by 18:30\, so people\nwho need to catch a train can do so before it starts getting dark.
URL:https://northherts.camra.org.uk/event/country-cycle-tour/
LOCATION:Knebworth Station\, Park Lane\, Knebworth\, SG3 6AT\, United Kingdom
CATEGORIES:Branch Events,Local Events
ATTACH;FMTTYPE=image/webp:https://northherts.camra.org.uk/wp-content/uploads/2025/05/station-knebworth.webp
END:VEVENT
BEGIN:VEVENT
DTSTART;VALUE=DATE:20250830
DTEND;VALUE=DATE:20250831
DTSTAMP:20260422T114534
CREATED:20250505T105614Z
LAST-MODIFIED:20250626T102156Z
UID:1404-1756512000-1756598399@northherts.camra.org.uk
SUMMARY:3 Brewers Music\, Food and Beer Festival  - Social Trip
DESCRIPTION:Join South and North Herts Branch members for an afternoon of cask ale at the 3 Brewers brewery\, the Potato Shed\, Symondshyde Farm\, Symondshyde Lane\, near Hatfield. \nMore details nearer the time.
URL:https://northherts.camra.org.uk/event/3-brewers-music-food-and-beer-festival-social-trip/
LOCATION:3 Brewers\, St Albans\, The Potato Shed\, Symonds Hyde Farm\, Symonds Hyde Lane\,\, Hatfield\, AL10 9BB
CATEGORIES:Branch Events,Local Events
ATTACH;FMTTYPE=image/jpeg:https://northherts.camra.org.uk/wp-content/uploads/2025/05/3brewers-scaled.jpg
END:VEVENT
BEGIN:VEVENT
DTSTART;TZID=Europe/London:20250820T200000
DTEND;TZID=Europe/London:20250820T230000
DTSTAMP:20260422T114534
CREATED:20250505T104530Z
LAST-MODIFIED:20250505T104530Z
UID:1397-1755720000-1755730800@northherts.camra.org.uk
SUMMARY:Royston Summer Social Evening
DESCRIPTION:Join Branch members as we sample the ales starting at The Heath Café Bar\, off Baldock Road\, SG8 5BG at 8pm. We suggest non-locals arriving by train choose one to arrive by 7:30 for the walk out of town. We’ll then walk back to the King James\, Jolly Postie & the Manor House.
URL:https://northherts.camra.org.uk/event/royston-summer-social-evening/
LOCATION:The Heath Café Bar\, Royston\, Baldock Road\, Royston\, SG8 5BG\, United Kingdom
CATEGORIES:Branch Events,Local Events
ATTACH;FMTTYPE=image/webp:https://northherts.camra.org.uk/wp-content/uploads/2025/05/Heath-Cafe-Bar.webp
END:VEVENT
BEGIN:VEVENT
DTSTART;TZID=Europe/London:20250809T180000
DTEND;TZID=Europe/London:20250809T220000
DTSTAMP:20260422T114534
CREATED:20250730T121044Z
LAST-MODIFIED:20250730T121208Z
UID:1538-1754762400-1754776800@northherts.camra.org.uk
SUMMARY:Regional POTY Presentation
DESCRIPTION:Further to our recent announcement that The Orange Tree\, Baldock had been voted CAMRA East Central Regional Pub of the Year 2025\, we’ll make the award presentation on Saturday 9th at 6PM. Special ales are promised. Well\, what else would we expect?! \n \n 
URL:https://northherts.camra.org.uk/event/regional-poty-presentation/
LOCATION:Orange Tree\, Baldock\, Norton Road\, Baldock\, SG7 5AW
CATEGORIES:Branch Events
ATTACH;FMTTYPE=image/png:https://northherts.camra.org.uk/wp-content/uploads/2025/07/POTY-East-Central.png
END:VEVENT
BEGIN:VEVENT
DTSTART;TZID=Europe/London:20250802T140000
DTEND;TZID=Europe/London:20250802T220000
DTSTAMP:20260422T114534
CREATED:20250505T103925Z
LAST-MODIFIED:20250730T121424Z
UID:1393-1754143200-1754172000@northherts.camra.org.uk
SUMMARY:Old Town Stevenage August Social
DESCRIPTION:Join Branch members from 2pm for an afternoon wander around the old town starting at the Dun Cow\, then up to Old Town Bar\, and work back towards station\, via Broken Seal\, Red Lion\, Marquis of Lorne and the Chequers.
URL:https://northherts.camra.org.uk/event/august-social/
CATEGORIES:Branch Events,Local Events
ATTACH;FMTTYPE=image/jpeg:https://northherts.camra.org.uk/wp-content/uploads/2025/05/HEN-746-1170-dun-cow-stevenage.jpg
END:VEVENT
BEGIN:VEVENT
DTSTART;TZID=Europe/London:20250719T143000
DTEND;TZID=Europe/London:20250719T220000
DTSTAMP:20260422T114534
CREATED:20250505T103537Z
LAST-MODIFIED:20250708T113319Z
UID:1389-1752935400-1752962400@northherts.camra.org.uk
SUMMARY:Garden City Gathering and Willian Walk
DESCRIPTION:Family & Friends absolutely welcome! Arrive in Letchworth Garden City to enjoy lunch in one of the plentiful cafés and restaurants or visit any of The Broadway Hotel bar\, the Platform\, or Crafty’s all less than 5 minutes from the station. \nMeet up at the Arena Tavern around 2:30pm before we leave at 3pm for a leisurely summer walk to Willian Village (~40 minutes) taking in historic sites and enjoying a drink in each of the Fox and the Three Horseshoes (5 minutes apart) before heading back via a different route for an evening social\, including meet the brewer\, at Garden City Brewery in The Wynd. \nHere’s the route on Google Maps https://maps.app.goo.gl/Uiy9rUEAQuguwThTA \nPlease register so we can reserve space at Garden City Brewery https://tckty.camra.org.uk/e/398/garden-city-gathering-willian-walk#tickets
URL:https://northherts.camra.org.uk/event/garden-city-gathering-and-willian-walk/
CATEGORIES:Branch Events,Local Events
ATTACH;FMTTYPE=image/webp:https://northherts.camra.org.uk/wp-content/uploads/2025/05/fox-willian.webp
END:VEVENT
BEGIN:VEVENT
DTSTART;TZID=Europe/London:20250704T180000
DTEND;TZID=Europe/London:20250704T183000
DTSTAMP:20260422T114534
CREATED:20250504T061449Z
LAST-MODIFIED:20250703T111646Z
UID:1384-1751652000-1751653800@northherts.camra.org.uk
SUMMARY:July Branch Meeting
DESCRIPTION:North Herts CAMRA branch meeting on Friday 4th July at 6pm. \nBrief meeting at Hitchin Rugby Club before the after-festival volunteers’ BBQ for the Hitchin Beer & Cider Festival.
URL:https://northherts.camra.org.uk/event/july-branch-meeting/
LOCATION:Hitchin Rugby Club\, Old Hale Way\, Hitchin\, SG5 1XL\, United Kingdom
CATEGORIES:Branch Events,Branch Meetings
ATTACH;FMTTYPE=image/gif:https://northherts.camra.org.uk/wp-content/uploads/2025/01/CAMRA-Branch-Trial-1-cropped.gif
END:VEVENT
BEGIN:VEVENT
DTSTART;TZID=Europe/London:20250605T170000
DTEND;TZID=Europe/London:20250607T220000
DTSTAMP:20260422T114534
CREATED:20241020T142449Z
LAST-MODIFIED:20241110T202620Z
UID:488-1749142800-1749333600@northherts.camra.org.uk
SUMMARY:Hitchin Beer and Cider Festival 2025
DESCRIPTION:CAMRA North Hertfordshire and Hitchin Rugby club’s annual festival returns Thursday 5th to Saturday 7th June. \nPlease visit the dedicated festival website for more details.
URL:https://northherts.camra.org.uk/event/hitchin-beer-and-cider-festival-2025/
LOCATION:Hitchin Rugby Club\, Old Hale Way\, Hitchin\, SG5 1XL\, United Kingdom
CATEGORIES:Beer & Cider Festivals,Branch Events
ATTACH;FMTTYPE=image/jpeg:https://northherts.camra.org.uk/wp-content/uploads/2024/11/Open-4-Cider.jpg
END:VEVENT
BEGIN:VEVENT
DTSTART;TZID=Europe/London:20250530T193000
DTEND;TZID=Europe/London:20250530T230000
DTSTAMP:20260422T114534
CREATED:20250207T150727Z
LAST-MODIFIED:20250213T234706Z
UID:1242-1748633400-1748646000@northherts.camra.org.uk
SUMMARY:Hitchin Beer Festival Promo Tour
DESCRIPTION:Hitchin Beer & Cider Festival Promotional Tour  – Meet at the Albert at 7:30 PM to divide and spread the word amongst Hitchin pubs about the upcoming festival.
URL:https://northherts.camra.org.uk/event/hitchin-beer-festival-promo-tour/
LOCATION:The Albert\, Hitchin\, 50 Walsworth Road\, Hitchin\, \, SG4 9SU
CATEGORIES:Branch Events,Local Events
ATTACH;FMTTYPE=image/webp:https://northherts.camra.org.uk/wp-content/uploads/2025/02/thealberthitchin.webp
END:VEVENT
BEGIN:VEVENT
DTSTART;TZID=Europe/London:20250402T200000
DTEND;TZID=Europe/London:20250402T230000
DTSTAMP:20260422T114534
CREATED:20250207T143401Z
LAST-MODIFIED:20250207T143401Z
UID:1225-1743624000-1743634800@northherts.camra.org.uk
SUMMARY:Baldock Social
DESCRIPTION:Starting at 8 PM at the Old White Horse\, then visiting the Cock\, the White Lion and the Orange Tree.
URL:https://northherts.camra.org.uk/event/baldock-social/
LOCATION:Old White Horse\, Baldock\, 1 Station Road\, Baldock\, SG7 5BS
CATEGORIES:Branch Events
ATTACH;FMTTYPE=image/webp:https://northherts.camra.org.uk/wp-content/uploads/2025/02/oldwhitehorsebaldock.webp
END:VEVENT
BEGIN:VEVENT
DTSTART;TZID=Europe/London:20250319T200000
DTEND;TZID=Europe/London:20250319T230000
DTSTAMP:20260422T114534
CREATED:20250207T142728Z
LAST-MODIFIED:20250213T123114Z
UID:1219-1742414400-1742425200@northherts.camra.org.uk
SUMMARY:Hitchin Social
DESCRIPTION:Starting at 8pm at the Three Moorhens\, then visiting the Coopers Arms\, the Bricklayers’ Arms and the Millstream.
URL:https://northherts.camra.org.uk/event/hitchin-social/
LOCATION:Three Moorhens\, Hitchin\, Hitchin Hill\, Hitchin\, SG4 9AJ
CATEGORIES:Branch Events
ATTACH;FMTTYPE=image/webp:https://northherts.camra.org.uk/wp-content/uploads/2025/02/threemoorhenshitchin.webp
END:VEVENT
BEGIN:VEVENT
DTSTART;TZID=Europe/London:20250115T200000
DTEND;TZID=Europe/London:20250115T223000
DTSTAMP:20260422T114534
CREATED:20250114T174221Z
LAST-MODIFIED:20250114T215209Z
UID:1135-1736971200-1736980200@northherts.camra.org.uk
SUMMARY:January 15th Social - Stevenage Old Town
DESCRIPTION:We’ll hold our first local get together of the year Wednesday 15th January\, in Stevenage Old Town\, starting at 8 PM in Old Town Bar\, followed by Rump & Wade\, Mulberry Tree or Red Lion\, finishing at the Chequers. We’d love to see you there.
URL:https://northherts.camra.org.uk/event/january-15th-social-stevenage-old-town/
LOCATION:Stevenage Old Town\, Old Town Bar\, 46 High Street\, Stevenage\, SG1 3EF\, United Kingdom
CATEGORIES:Branch Events
ATTACH;FMTTYPE=image/webp:https://northherts.camra.org.uk/wp-content/uploads/2025/01/OldTownBar-Stev.webp
ORGANIZER;CN="Branch Chair":MAILTO:dean.barrett@camra.org.uk
END:VEVENT
BEGIN:VEVENT
DTSTART;TZID=Europe/London:20241213T193000
DTEND;TZID=Europe/London:20241213T230000
DTSTAMP:20260422T114534
CREATED:20241027T191148Z
LAST-MODIFIED:20241203T121208Z
UID:660-1734118200-1734130800@northherts.camra.org.uk
SUMMARY:Hitchin Traditional Pre-Christmas Ale Trail
DESCRIPTION:Traditional crawl of Hitchin pubs starting at 7:30 PM at the Radcliffe Arms\, from where we’ll take in The Victoria\, The Hamm\, BBs Bar and The Half Moon. Christmas jumpers optional!
URL:https://northherts.camra.org.uk/event/hitchin-traditional-pre-christmas-ale-trail/
LOCATION:The Radcliffe Arms\, Hitchin\, 31 Walsworth Road\, Hitchin\, SG4 9ST
CATEGORIES:Branch Events
ATTACH;FMTTYPE=image/png:https://northherts.camra.org.uk/wp-content/uploads/2024/10/Radcliffeoldphoto.png
END:VEVENT
BEGIN:VEVENT
DTSTART;TZID=Europe/London:20241130T120000
DTEND;TZID=Europe/London:20241130T220000
DTSTAMP:20260422T114534
CREATED:20241027T185923Z
LAST-MODIFIED:20241110T161056Z
UID:650-1732968000-1733004000@northherts.camra.org.uk
SUMMARY:Hertford Autumn Ale Trail
DESCRIPTION:South Herts CAMRA’s Hertford Ale Trail. Meet at the Black Horse\, West Street at 1 PM. North Herts members meet at Stevenage Rail Station to catch the 12:03 to Hertford North. Rail Replacement Service may apply. Check nationalrail.co.uk for details before departing. \nItinerary:\n\n1:00pm – Black Horse\, West Street\n1:45pm – White Horse\, Castle Street\n2:30pm – Quiet Man\, Parliament Street\n3:15pm – Six Templars\, The Wash\n4:00pm – Old Barge\, The Folly\n4:45pm – Hertford Club\, Bull Plain\n5:30pm – Woolpack\, Millbridge\n6:15pm – Old Cross Tavern\, St. Andrews Street\n\n8 pubs – 30 Real Ales\, everyone welcome
URL:https://northherts.camra.org.uk/event/hertford-autumn-ale-trail/
LOCATION:Black Horse\, Hertford\, 29-31 West Street\, Hertford\, SG13 8EZ\, United Kingdom
CATEGORIES:Branch Events,Local Events
ATTACH;FMTTYPE=image/png:https://northherts.camra.org.uk/wp-content/uploads/2024/10/Hertford-Autumn-Ale-Trail-2024.png
END:VEVENT
BEGIN:VEVENT
DTSTART;TZID=Europe/London:20241113T194500
DTEND;TZID=Europe/London:20241113T233000
DTSTAMP:20260422T114534
CREATED:20241027T185308Z
LAST-MODIFIED:20241027T185308Z
UID:646-1731527100-1731540600@northherts.camra.org.uk
SUMMARY:Wednesday 13th November - Knebworth Two-Stop Crawl
DESCRIPTION:Meet at Knebworth station at 7:45PM* e.g. take train from Royston 7:16pm\, Baldock 7:24pm\, Letchworth 7:27pm Hitchin 7:33pm\, Stevenage 7:39pm. \nRide-share to Lytton Arms Old Knebworth; ride-share back to The Station pub around 8:45 PM. Trains home around 10 PM or 11 PM* \n*Check nationalrail.co.uk nearer the time for any train timetable changes. \nPlease WhatsApp/Text before or on the day 07845 678955 to ensure we book a ride for you.
URL:https://northherts.camra.org.uk/event/wednesday-13th-november-knebworth-two-stop-crawl/
LOCATION:Knebworth Station\, Park Lane\, Knebworth\, SG3 6AT\, United Kingdom
CATEGORIES:Branch Events
ATTACH;FMTTYPE=image/png:https://northherts.camra.org.uk/wp-content/uploads/2024/10/2pubcrawlkebworth.png
END:VEVENT
END:VCALENDAR