BEGIN:VCALENDAR
VERSION:2.0
PRODID:-//CAMRA North Herts - ECPv6.15.20//NONSGML v1.0//EN
CALSCALE:GREGORIAN
METHOD:PUBLISH
X-ORIGINAL-URL:https://northherts.camra.org.uk
X-WR-CALDESC:Events for CAMRA North Herts
REFRESH-INTERVAL;VALUE=DURATION:PT1H
X-Robots-Tag:noindex
X-PUBLISHED-TTL:PT1H
BEGIN:VTIMEZONE
TZID:Europe/London
BEGIN:DAYLIGHT
TZOFFSETFROM:+0000
TZOFFSETTO:+0100
TZNAME:BST
DTSTART:20240331T010000
END:DAYLIGHT
BEGIN:STANDARD
TZOFFSETFROM:+0100
TZOFFSETTO:+0000
TZNAME:GMT
DTSTART:20241027T010000
END:STANDARD
BEGIN:DAYLIGHT
TZOFFSETFROM:+0000
TZOFFSETTO:+0100
TZNAME:BST
DTSTART:20250330T010000
END:DAYLIGHT
BEGIN:STANDARD
TZOFFSETFROM:+0100
TZOFFSETTO:+0000
TZNAME:GMT
DTSTART:20251026T010000
END:STANDARD
BEGIN:DAYLIGHT
TZOFFSETFROM:+0000
TZOFFSETTO:+0100
TZNAME:BST
DTSTART:20260329T010000
END:DAYLIGHT
BEGIN:STANDARD
TZOFFSETFROM:+0100
TZOFFSETTO:+0000
TZNAME:GMT
DTSTART:20261025T010000
END:STANDARD
END:VTIMEZONE
BEGIN:VEVENT
DTSTART;TZID=Europe/London:20250222T134500
DTEND;TZID=Europe/London:20250222T164500
DTSTAMP:20260426T043549
CREATED:20250213T174045Z
LAST-MODIFIED:20250213T174846Z
UID:1249-1740231900-1740242700@northherts.camra.org.uk
SUMMARY:February Branch Meeting
DESCRIPTION:Kindly hosted by the Vic\, Hitchin\, in the Barn. Please arrive by 1:45pm for a 2pm SHARP start\, and we will conclude by 4:30pm. \nThis is the meeting where we finalise our recommended entries for the next edition of the Good Beer Guide and continue planning for the next few months. After the meeting the Vic will be showing the England v Scotland Six Nations rugby on all screens from 4:45pm. Why not make a full afternoon and evening of it?
URL:https://northherts.camra.org.uk/event/february-branch-meeting/
LOCATION:The Victoria\, Hitchin\, 1 Ickleford Rd\, Hitchin\, SG5 1TJ
CATEGORIES:Branch Meetings
ATTACH;FMTTYPE=image/webp:https://northherts.camra.org.uk/wp-content/uploads/2025/02/victoria.webp
ORGANIZER;CN="Branch Chair":MAILTO:dean.barrett@camra.org.uk
END:VEVENT
END:VCALENDAR