BEGIN:VCALENDAR
VERSION:2.0
PRODID:-//CAMRA North Herts - ECPv6.15.20//NONSGML v1.0//EN
CALSCALE:GREGORIAN
METHOD:PUBLISH
X-WR-CALNAME:CAMRA North Herts
X-ORIGINAL-URL:https://northherts.camra.org.uk
X-WR-CALDESC:Events for CAMRA North Herts
REFRESH-INTERVAL;VALUE=DURATION:PT1H
X-Robots-Tag:noindex
X-PUBLISHED-TTL:PT1H
BEGIN:VTIMEZONE
TZID:Europe/London
BEGIN:DAYLIGHT
TZOFFSETFROM:+0000
TZOFFSETTO:+0100
TZNAME:BST
DTSTART:20230326T010000
END:DAYLIGHT
BEGIN:STANDARD
TZOFFSETFROM:+0100
TZOFFSETTO:+0000
TZNAME:GMT
DTSTART:20231029T010000
END:STANDARD
BEGIN:DAYLIGHT
TZOFFSETFROM:+0000
TZOFFSETTO:+0100
TZNAME:BST
DTSTART:20240331T010000
END:DAYLIGHT
BEGIN:STANDARD
TZOFFSETFROM:+0100
TZOFFSETTO:+0000
TZNAME:GMT
DTSTART:20241027T010000
END:STANDARD
BEGIN:DAYLIGHT
TZOFFSETFROM:+0000
TZOFFSETTO:+0100
TZNAME:BST
DTSTART:20250330T010000
END:DAYLIGHT
BEGIN:STANDARD
TZOFFSETFROM:+0100
TZOFFSETTO:+0000
TZNAME:GMT
DTSTART:20251026T010000
END:STANDARD
END:VTIMEZONE
BEGIN:VEVENT
DTSTART;TZID=Europe/London:20241130T120000
DTEND;TZID=Europe/London:20241130T220000
DTSTAMP:20260421T235434
CREATED:20241027T185923Z
LAST-MODIFIED:20241110T161056Z
UID:650-1732968000-1733004000@northherts.camra.org.uk
SUMMARY:Hertford Autumn Ale Trail
DESCRIPTION:South Herts CAMRA’s Hertford Ale Trail. Meet at the Black Horse\, West Street at 1 PM. North Herts members meet at Stevenage Rail Station to catch the 12:03 to Hertford North. Rail Replacement Service may apply. Check nationalrail.co.uk for details before departing. \nItinerary:\n\n1:00pm – Black Horse\, West Street\n1:45pm – White Horse\, Castle Street\n2:30pm – Quiet Man\, Parliament Street\n3:15pm – Six Templars\, The Wash\n4:00pm – Old Barge\, The Folly\n4:45pm – Hertford Club\, Bull Plain\n5:30pm – Woolpack\, Millbridge\n6:15pm – Old Cross Tavern\, St. Andrews Street\n\n8 pubs – 30 Real Ales\, everyone welcome
URL:https://northherts.camra.org.uk/event/hertford-autumn-ale-trail/
LOCATION:Black Horse\, Hertford\, 29-31 West Street\, Hertford\, SG13 8EZ\, United Kingdom
CATEGORIES:Branch Events,Local Events
ATTACH;FMTTYPE=image/png:https://northherts.camra.org.uk/wp-content/uploads/2024/10/Hertford-Autumn-Ale-Trail-2024.png
END:VEVENT
BEGIN:VEVENT
DTSTART;VALUE=DATE:20241129
DTEND;VALUE=DATE:20241130
DTSTAMP:20260421T235434
CREATED:20241027T192336Z
LAST-MODIFIED:20241102T172037Z
UID:674-1732838400-1732924799@northherts.camra.org.uk
SUMMARY:Rose and Crown Aston re-opens!
DESCRIPTION:The Rose & Crown in Aston will reopen for business on 29 November\, having been closed since December 2014. It will have 3 hand pumps selling a range of top quality ales some from local breweries\, please show your support and visit!
URL:https://northherts.camra.org.uk/event/rose-and-crown-aston-reopens/
LOCATION:Rose & Crown\, Aston\, 10 Benington Road\, Aston\, SG2 7DX\, United Kingdom
CATEGORIES:Local Events
ATTACH;FMTTYPE=image/jpeg:https://northherts.camra.org.uk/wp-content/uploads/2024/10/roseandcrownaston.jpg
END:VEVENT
BEGIN:VEVENT
DTSTART;VALUE=DATE:20241122
DTEND;VALUE=DATE:20241123
DTSTAMP:20260421T235434
CREATED:20241020T140618Z
LAST-MODIFIED:20241020T140618Z
UID:484-1732233600-1732319999@northherts.camra.org.uk
SUMMARY:Save our White Horse - Pop up Pub
DESCRIPTION:Save the Date! \nThe next Save Our White Horse pop-up pub will be held on Friday 22nd November in the Dacre rooms Kimpton from 18:00 till 23:00. \nWe will have our usual fine selection of excellent local beer\, wine and other drinks as well as live music and food…watch out for more details! \nIt promises to be another fantastic evening\, don’t miss it!
URL:https://northherts.camra.org.uk/event/save-our-white-horse-pop-up-pub/
LOCATION:Dacre Rooms\, Kimpton\, High Street\, Kimpton\, SG4 8RA\, United Kingdom
CATEGORIES:Local Events
ATTACH;FMTTYPE=image/jpeg:https://northherts.camra.org.uk/wp-content/uploads/2024/10/1000017404.jpg
END:VEVENT
BEGIN:VEVENT
DTSTART;TZID=Europe/London:20241113T194500
DTEND;TZID=Europe/London:20241113T233000
DTSTAMP:20260421T235434
CREATED:20241027T185308Z
LAST-MODIFIED:20241027T185308Z
UID:646-1731527100-1731540600@northherts.camra.org.uk
SUMMARY:Wednesday 13th November - Knebworth Two-Stop Crawl
DESCRIPTION:Meet at Knebworth station at 7:45PM* e.g. take train from Royston 7:16pm\, Baldock 7:24pm\, Letchworth 7:27pm Hitchin 7:33pm\, Stevenage 7:39pm. \nRide-share to Lytton Arms Old Knebworth; ride-share back to The Station pub around 8:45 PM. Trains home around 10 PM or 11 PM* \n*Check nationalrail.co.uk nearer the time for any train timetable changes. \nPlease WhatsApp/Text before or on the day 07845 678955 to ensure we book a ride for you.
URL:https://northherts.camra.org.uk/event/wednesday-13th-november-knebworth-two-stop-crawl/
LOCATION:Knebworth Station\, Park Lane\, Knebworth\, SG3 6AT\, United Kingdom
CATEGORIES:Branch Events
ATTACH;FMTTYPE=image/png:https://northherts.camra.org.uk/wp-content/uploads/2024/10/2pubcrawlkebworth.png
END:VEVENT
BEGIN:VEVENT
DTSTART;TZID=Europe/London:20241102T134500
DTEND;TZID=Europe/London:20241102T210000
DTSTAMP:20260421T235434
CREATED:20241027T184546Z
LAST-MODIFIED:20241027T184613Z
UID:640-1730555100-1730581200@northherts.camra.org.uk
SUMMARY:Saturday 2nd November - Royston Ale Trail
DESCRIPTION:Meet at 1:45 PM at the Jolly Postie to enjoy the town’s pubs for the afternoon. Provisional trail: \n\n14:20-14:30 head to the Heath Café;\n15:15-15:30 head to the King James;\n16:00-16:15 head to Banyers;\n16:45-17:00 head to Manor House;\n18:00-18:15 head to the British Legion.\n\nThis event will be led by Matt Miller\, our Royston-resident Social Media Coordinator.\nEmail social.media@northherts.camra.org.uk
URL:https://northherts.camra.org.uk/event/royston-ale-trail/
LOCATION:Jolly Postie\, Royston\, 2 Baldock Street\, Royston\, SG8 5AY\, United Kingdom
CATEGORIES:Branch Events
ATTACH;FMTTYPE=image/webp:https://northherts.camra.org.uk/wp-content/uploads/2024/10/jolly-postie.webp
ORGANIZER;CN="Matt Miller":MAILTO:social.media@northherts.camra.org.uk
END:VEVENT
BEGIN:VEVENT
DTSTART;TZID=Europe/London:20241019T120000
DTEND;TZID=Europe/London:20241019T190000
DTSTAMP:20260421T235434
CREATED:20241006T131019Z
LAST-MODIFIED:20241102T172427Z
UID:100-1729339200-1729364400@northherts.camra.org.uk
SUMMARY:Joint London & Herts CAMRA New River Line Rail Ale Trail
DESCRIPTION:The London group meets at meet at Tottenham Hale Station at 11am. They join the South Herts group at midday at The Old Barge pub in Hertford. North Herts members can choose either start point – easy train connections in London or 22 minutes walk between the Hertford stations on return. \nWe will explore a handful of select pubs in Hertford. Our route will then be: \n\nTrain from Hertford East to Ware for a visit to the Waterside Inn\nTrain from Ware to St Margarets for visits to the Jolly Fisherman and Rye House\nTrain from St Margaret’s to Broxbourne for a visit to the Crown Inn and return.\n\n(If you would like to join all or part of the trail\, please email chair@northherts.camra.org.uk so we can look out for you.)
URL:https://northherts.camra.org.uk/event/joint-london-herts-camra-new-river-line-rail-ale-trail/
LOCATION:Old Barge Pub\, 2 The Folly\, Hertford\, SG14 1QD\, United Kingdom
CATEGORIES:Branch Events
ATTACH;FMTTYPE=image/jpeg:https://northherts.camra.org.uk/wp-content/uploads/2024/10/new-river-line-ale-trail-booklet-logo.jpg
END:VEVENT
BEGIN:VEVENT
DTSTART;VALUE=DATE:20241012
DTEND;VALUE=DATE:20241014
DTSTAMP:20260421T235434
CREATED:20241008T182212Z
LAST-MODIFIED:20241008T182212Z
UID:326-1728691200-1728863999@northherts.camra.org.uk
SUMMARY:Letchworth Independent Pub Weekend
DESCRIPTION:Take a trail and explore Letchworth’s local drinking establishments\, established and run by locals. \nCollect 2x stamps at each venue to be entered into a prize draw!
URL:https://northherts.camra.org.uk/event/letchworth-independent-pub-weekend/
LOCATION:Letchworth Garden City\, Letchworth Garden City\, SG6 3DL
ATTACH;FMTTYPE=image/webp:https://northherts.camra.org.uk/wp-content/uploads/2024/10/letindependentpub.webp
END:VEVENT
BEGIN:VEVENT
DTSTART;TZID=Europe/London:20241008T200000
DTEND;TZID=Europe/London:20241008T200000
DTSTAMP:20260421T235434
CREATED:20241006T130542Z
LAST-MODIFIED:20241008T181659Z
UID:96-1728417600-1728417600@northherts.camra.org.uk
SUMMARY:Branch Meeting - 8th October 2024
DESCRIPTION:We invite you to take part in the meeting\, where will have updates from our branch volunteers and discuss social plans. If you would like to suggest any topic for the agenda\, please email secretary@northherts.camra.org.uk by Sunday 6th. \nThose familiar with BB’s will know it serves real ales from a dedicated bar counter at the rear of the main bar. If you’ve not tried BB’s yet this is an ideal opportunity to visit! \n 
URL:https://northherts.camra.org.uk/event/96/
LOCATION:BB’s Bar\, 12 Bridge Street\, Hitchin\, SG5 2DE\, United Kingdom
CATEGORIES:Branch Events
ATTACH;FMTTYPE=image/jpeg:https://northherts.camra.org.uk/wp-content/uploads/2024/10/HEN-4047-1313-bbs-bar-hitchin.jpg
END:VEVENT
END:VCALENDAR