BEGIN:VCALENDAR
VERSION:2.0
PRODID:-//CAMRA North Herts - ECPv6.15.20//NONSGML v1.0//EN
CALSCALE:GREGORIAN
METHOD:PUBLISH
X-WR-CALNAME:CAMRA North Herts
X-ORIGINAL-URL:https://northherts.camra.org.uk
X-WR-CALDESC:Events for CAMRA North Herts
REFRESH-INTERVAL;VALUE=DURATION:PT1H
X-Robots-Tag:noindex
X-PUBLISHED-TTL:PT1H
BEGIN:VTIMEZONE
TZID:Europe/London
BEGIN:DAYLIGHT
TZOFFSETFROM:+0000
TZOFFSETTO:+0100
TZNAME:BST
DTSTART:20230326T010000
END:DAYLIGHT
BEGIN:STANDARD
TZOFFSETFROM:+0100
TZOFFSETTO:+0000
TZNAME:GMT
DTSTART:20231029T010000
END:STANDARD
BEGIN:DAYLIGHT
TZOFFSETFROM:+0000
TZOFFSETTO:+0100
TZNAME:BST
DTSTART:20240331T010000
END:DAYLIGHT
BEGIN:STANDARD
TZOFFSETFROM:+0100
TZOFFSETTO:+0000
TZNAME:GMT
DTSTART:20241027T010000
END:STANDARD
BEGIN:DAYLIGHT
TZOFFSETFROM:+0000
TZOFFSETTO:+0100
TZNAME:BST
DTSTART:20250330T010000
END:DAYLIGHT
BEGIN:STANDARD
TZOFFSETFROM:+0100
TZOFFSETTO:+0000
TZNAME:GMT
DTSTART:20251026T010000
END:STANDARD
END:VTIMEZONE
BEGIN:VEVENT
DTSTART;VALUE=DATE:20241012
DTEND;VALUE=DATE:20241014
DTSTAMP:20260422T004923
CREATED:20241008T182212Z
LAST-MODIFIED:20241008T182212Z
UID:326-1728691200-1728863999@northherts.camra.org.uk
SUMMARY:Letchworth Independent Pub Weekend
DESCRIPTION:Take a trail and explore Letchworth’s local drinking establishments\, established and run by locals. \nCollect 2x stamps at each venue to be entered into a prize draw!
URL:https://northherts.camra.org.uk/event/letchworth-independent-pub-weekend/
LOCATION:Letchworth Garden City\, Letchworth Garden City\, SG6 3DL
ATTACH;FMTTYPE=image/webp:https://northherts.camra.org.uk/wp-content/uploads/2024/10/letindependentpub.webp
END:VEVENT
BEGIN:VEVENT
DTSTART;TZID=Europe/London:20241008T200000
DTEND;TZID=Europe/London:20241008T200000
DTSTAMP:20260422T004923
CREATED:20241006T130542Z
LAST-MODIFIED:20241008T181659Z
UID:96-1728417600-1728417600@northherts.camra.org.uk
SUMMARY:Branch Meeting - 8th October 2024
DESCRIPTION:We invite you to take part in the meeting\, where will have updates from our branch volunteers and discuss social plans. If you would like to suggest any topic for the agenda\, please email secretary@northherts.camra.org.uk by Sunday 6th. \nThose familiar with BB’s will know it serves real ales from a dedicated bar counter at the rear of the main bar. If you’ve not tried BB’s yet this is an ideal opportunity to visit! \n 
URL:https://northherts.camra.org.uk/event/96/
LOCATION:BB’s Bar\, 12 Bridge Street\, Hitchin\, SG5 2DE\, United Kingdom
CATEGORIES:Branch Events
ATTACH;FMTTYPE=image/jpeg:https://northherts.camra.org.uk/wp-content/uploads/2024/10/HEN-4047-1313-bbs-bar-hitchin.jpg
END:VEVENT
END:VCALENDAR