BEGIN:VCALENDAR
VERSION:2.0
PRODID:-//CAMRA North Herts - ECPv6.15.20//NONSGML v1.0//EN
CALSCALE:GREGORIAN
METHOD:PUBLISH
X-ORIGINAL-URL:https://northherts.camra.org.uk
X-WR-CALDESC:Events for CAMRA North Herts
REFRESH-INTERVAL;VALUE=DURATION:PT1H
X-Robots-Tag:noindex
X-PUBLISHED-TTL:PT1H
BEGIN:VTIMEZONE
TZID:Europe/London
BEGIN:DAYLIGHT
TZOFFSETFROM:+0000
TZOFFSETTO:+0100
TZNAME:BST
DTSTART:20230326T010000
END:DAYLIGHT
BEGIN:STANDARD
TZOFFSETFROM:+0100
TZOFFSETTO:+0000
TZNAME:GMT
DTSTART:20231029T010000
END:STANDARD
BEGIN:DAYLIGHT
TZOFFSETFROM:+0000
TZOFFSETTO:+0100
TZNAME:BST
DTSTART:20240331T010000
END:DAYLIGHT
BEGIN:STANDARD
TZOFFSETFROM:+0100
TZOFFSETTO:+0000
TZNAME:GMT
DTSTART:20241027T010000
END:STANDARD
BEGIN:DAYLIGHT
TZOFFSETFROM:+0000
TZOFFSETTO:+0100
TZNAME:BST
DTSTART:20250330T010000
END:DAYLIGHT
BEGIN:STANDARD
TZOFFSETFROM:+0100
TZOFFSETTO:+0000
TZNAME:GMT
DTSTART:20251026T010000
END:STANDARD
END:VTIMEZONE
BEGIN:VEVENT
DTSTART;VALUE=DATE:20241203
DTEND;VALUE=DATE:20241209
DTSTAMP:20260426T044229
CREATED:20241027T190659Z
LAST-MODIFIED:20241027T190659Z
UID:654-1733184000-1733702399@northherts.camra.org.uk
SUMMARY:40th Pig's Ear Festival
DESCRIPTION:On from Tuesday 3rd – Saturday 8th  December is East London & City CAMRA’s Pigs Ear Festival. \nSee website for details and separate event for CAMRA North Herts branch visit on Friday 6th December
URL:https://northherts.camra.org.uk/event/40th-pigs-ear-festival/
LOCATION:Round Chapel\, 1D Glenarm Rd\, Lower Clapton\, London\, E5 0LY
CATEGORIES:Beer & Cider Festivals
ATTACH;FMTTYPE=image/png:https://northherts.camra.org.uk/wp-content/uploads/2024/10/pigsear24.png
END:VEVENT
BEGIN:VEVENT
DTSTART;TZID=Europe/London:20241206T113000
DTEND;TZID=Europe/London:20241206T220000
DTSTAMP:20260426T044229
CREATED:20241027T190820Z
LAST-MODIFIED:20241204T123130Z
UID:658-1733484600-1733522400@northherts.camra.org.uk
SUMMARY:Pig's Ear Beer Festival - Branch Visit
DESCRIPTION:Meet outside the Round Chapel at 11:30 – 11:45 a.m. Suggested route: Thameslink Train to Finsbury Park arriving 10:51\, 254 Bus at 11:01 from Stop R to Aldgate alighting at Clapton Girls’ Tech College.\nAnyone preferring an earlier start with brunch before the festival\, please join the group taking the 09:41 train from Hitchin instead.\nCan’t make it during the day? Why not join our friends from South Herts Branch who’ll be visiting the festival from 7 PM
URL:https://northherts.camra.org.uk/event/pigs-ear-beer-festival-branch-visit/
LOCATION:Round Chapel\, 1D Glenarm Rd\, Lower Clapton\, London\, E5 0LY
ATTACH;FMTTYPE=image/png:https://northherts.camra.org.uk/wp-content/uploads/2024/10/pigsear24.png
END:VEVENT
BEGIN:VEVENT
DTSTART;TZID=Europe/London:20241213T193000
DTEND;TZID=Europe/London:20241213T230000
DTSTAMP:20260426T044229
CREATED:20241027T191148Z
LAST-MODIFIED:20241203T121208Z
UID:660-1734118200-1734130800@northherts.camra.org.uk
SUMMARY:Hitchin Traditional Pre-Christmas Ale Trail
DESCRIPTION:Traditional crawl of Hitchin pubs starting at 7:30 PM at the Radcliffe Arms\, from where we’ll take in The Victoria\, The Hamm\, BBs Bar and The Half Moon. Christmas jumpers optional!
URL:https://northherts.camra.org.uk/event/hitchin-traditional-pre-christmas-ale-trail/
LOCATION:The Radcliffe Arms\, Hitchin\, 31 Walsworth Road\, Hitchin\, SG4 9ST
CATEGORIES:Branch Events
ATTACH;FMTTYPE=image/png:https://northherts.camra.org.uk/wp-content/uploads/2024/10/Radcliffeoldphoto.png
END:VEVENT
END:VCALENDAR