BEGIN:VCALENDAR
VERSION:2.0
PRODID:-//CAMRA North Herts - ECPv6.15.20//NONSGML v1.0//EN
CALSCALE:GREGORIAN
METHOD:PUBLISH
X-WR-CALNAME:CAMRA North Herts
X-ORIGINAL-URL:https://northherts.camra.org.uk
X-WR-CALDESC:Events for CAMRA North Herts
REFRESH-INTERVAL;VALUE=DURATION:PT1H
X-Robots-Tag:noindex
X-PUBLISHED-TTL:PT1H
BEGIN:VTIMEZONE
TZID:Europe/London
BEGIN:DAYLIGHT
TZOFFSETFROM:+0000
TZOFFSETTO:+0100
TZNAME:BST
DTSTART:20240331T010000
END:DAYLIGHT
BEGIN:STANDARD
TZOFFSETFROM:+0100
TZOFFSETTO:+0000
TZNAME:GMT
DTSTART:20241027T010000
END:STANDARD
BEGIN:DAYLIGHT
TZOFFSETFROM:+0000
TZOFFSETTO:+0100
TZNAME:BST
DTSTART:20250330T010000
END:DAYLIGHT
BEGIN:STANDARD
TZOFFSETFROM:+0100
TZOFFSETTO:+0000
TZNAME:GMT
DTSTART:20251026T010000
END:STANDARD
BEGIN:DAYLIGHT
TZOFFSETFROM:+0000
TZOFFSETTO:+0100
TZNAME:BST
DTSTART:20260329T010000
END:DAYLIGHT
BEGIN:STANDARD
TZOFFSETFROM:+0100
TZOFFSETTO:+0000
TZNAME:GMT
DTSTART:20261025T010000
END:STANDARD
END:VTIMEZONE
BEGIN:VEVENT
DTSTART;TZID=Europe/London:20250605T170000
DTEND;TZID=Europe/London:20250607T220000
DTSTAMP:20260425T164440
CREATED:20241020T142449Z
LAST-MODIFIED:20241110T202620Z
UID:488-1749142800-1749333600@northherts.camra.org.uk
SUMMARY:Hitchin Beer and Cider Festival 2025
DESCRIPTION:CAMRA North Hertfordshire and Hitchin Rugby club’s annual festival returns Thursday 5th to Saturday 7th June. \nPlease visit the dedicated festival website for more details.
URL:https://northherts.camra.org.uk/event/hitchin-beer-and-cider-festival-2025/
LOCATION:Hitchin Rugby Club\, Old Hale Way\, Hitchin\, SG5 1XL\, United Kingdom
CATEGORIES:Beer & Cider Festivals,Branch Events
ATTACH;FMTTYPE=image/jpeg:https://northherts.camra.org.uk/wp-content/uploads/2024/11/Open-4-Cider.jpg
END:VEVENT
BEGIN:VEVENT
DTSTART;VALUE=DATE:20250615
DTEND;VALUE=DATE:20250616
DTSTAMP:20260425T164440
CREATED:20250418T111717Z
LAST-MODIFIED:20250421T145530Z
UID:1338-1749945600-1750031999@northherts.camra.org.uk
SUMMARY:Beer Day Britain
DESCRIPTION:Celebrate Britain’s national alcoholic drink and spread beery love throughout the land by joining the National Cheers To Beer at 7pm (19.00h) on June 15th as millions of people across the country raise a glass\, say ‘Cheers to Beer’ and post a message on social media with the hashtag #CheersToBeer. \nFind out more about Beer Day Britain here. \n  \n 
URL:https://northherts.camra.org.uk/event/beer-day-britain/
CATEGORIES:National Events
ATTACH;FMTTYPE=image/png:https://northherts.camra.org.uk/wp-content/uploads/2025/04/Beer-Day-Britain-graphic.png
END:VEVENT
END:VCALENDAR