BEGIN:VCALENDAR
VERSION:2.0
PRODID:-//CAMRA North Herts - ECPv6.15.20//NONSGML v1.0//EN
CALSCALE:GREGORIAN
METHOD:PUBLISH
X-WR-CALNAME:CAMRA North Herts
X-ORIGINAL-URL:https://northherts.camra.org.uk
X-WR-CALDESC:Events for CAMRA North Herts
REFRESH-INTERVAL;VALUE=DURATION:PT1H
X-Robots-Tag:noindex
X-PUBLISHED-TTL:PT1H
BEGIN:VTIMEZONE
TZID:Europe/London
BEGIN:DAYLIGHT
TZOFFSETFROM:+0000
TZOFFSETTO:+0100
TZNAME:BST
DTSTART:20240331T010000
END:DAYLIGHT
BEGIN:STANDARD
TZOFFSETFROM:+0100
TZOFFSETTO:+0000
TZNAME:GMT
DTSTART:20241027T010000
END:STANDARD
BEGIN:DAYLIGHT
TZOFFSETFROM:+0000
TZOFFSETTO:+0100
TZNAME:BST
DTSTART:20250330T010000
END:DAYLIGHT
BEGIN:STANDARD
TZOFFSETFROM:+0100
TZOFFSETTO:+0000
TZNAME:GMT
DTSTART:20251026T010000
END:STANDARD
BEGIN:DAYLIGHT
TZOFFSETFROM:+0000
TZOFFSETTO:+0100
TZNAME:BST
DTSTART:20260329T010000
END:DAYLIGHT
BEGIN:STANDARD
TZOFFSETFROM:+0100
TZOFFSETTO:+0000
TZNAME:GMT
DTSTART:20261025T010000
END:STANDARD
END:VTIMEZONE
BEGIN:VEVENT
DTSTART;VALUE=DATE:20250704
DTEND;VALUE=DATE:20250706
DTSTAMP:20260425T151105
CREATED:20250625T223026Z
LAST-MODIFIED:20250625T223026Z
UID:1462-1751587200-1751759999@northherts.camra.org.uk
SUMMARY:Cider& Cheese Festival at Hitchin Football Club
DESCRIPTION:Hitchin Town Football Club are running a cider and cheese festival on the 4th and 5th July at the Canary Club. \nThere will be around 37 different ciders from all over the UK including a selection of low/zero alcohol offerings. \nReal value for money pricing structure at just £4 a pint across the board. \nThere will also be music: \nMusic Lineup: \nFriday 7pm – Sandy Ukulele Band \nSaturday 5pm – John Powell \nSaturday 7pm – Glee Club \nSaturday 8pm – Jasmin \nFor more details please follow this link.
URL:https://northherts.camra.org.uk/event/cider-cheese-festival-at-hitchin-football-club/
LOCATION:Hitchin Football Club\, Top Field\, Fishponds Road\, Hitchin\, SG5 1NU
CATEGORIES:Beer & Cider Festivals,Local Events
ATTACH;FMTTYPE=image/jpeg:https://northherts.camra.org.uk/wp-content/uploads/2025/06/1000023293.jpg
END:VEVENT
BEGIN:VEVENT
DTSTART;TZID=Europe/London:20250704T180000
DTEND;TZID=Europe/London:20250704T183000
DTSTAMP:20260425T151105
CREATED:20250504T061449Z
LAST-MODIFIED:20250703T111646Z
UID:1384-1751652000-1751653800@northherts.camra.org.uk
SUMMARY:July Branch Meeting
DESCRIPTION:North Herts CAMRA branch meeting on Friday 4th July at 6pm. \nBrief meeting at Hitchin Rugby Club before the after-festival volunteers’ BBQ for the Hitchin Beer & Cider Festival.
URL:https://northherts.camra.org.uk/event/july-branch-meeting/
LOCATION:Hitchin Rugby Club\, Old Hale Way\, Hitchin\, SG5 1XL\, United Kingdom
CATEGORIES:Branch Events,Branch Meetings
ATTACH;FMTTYPE=image/gif:https://northherts.camra.org.uk/wp-content/uploads/2025/01/CAMRA-Branch-Trial-1-cropped.gif
END:VEVENT
BEGIN:VEVENT
DTSTART;TZID=Europe/London:20250719T143000
DTEND;TZID=Europe/London:20250719T220000
DTSTAMP:20260425T151105
CREATED:20250505T103537Z
LAST-MODIFIED:20250708T113319Z
UID:1389-1752935400-1752962400@northherts.camra.org.uk
SUMMARY:Garden City Gathering and Willian Walk
DESCRIPTION:Family & Friends absolutely welcome! Arrive in Letchworth Garden City to enjoy lunch in one of the plentiful cafés and restaurants or visit any of The Broadway Hotel bar\, the Platform\, or Crafty’s all less than 5 minutes from the station. \nMeet up at the Arena Tavern around 2:30pm before we leave at 3pm for a leisurely summer walk to Willian Village (~40 minutes) taking in historic sites and enjoying a drink in each of the Fox and the Three Horseshoes (5 minutes apart) before heading back via a different route for an evening social\, including meet the brewer\, at Garden City Brewery in The Wynd. \nHere’s the route on Google Maps https://maps.app.goo.gl/Uiy9rUEAQuguwThTA \nPlease register so we can reserve space at Garden City Brewery https://tckty.camra.org.uk/e/398/garden-city-gathering-willian-walk#tickets
URL:https://northherts.camra.org.uk/event/garden-city-gathering-and-willian-walk/
CATEGORIES:Branch Events,Local Events
ATTACH;FMTTYPE=image/webp:https://northherts.camra.org.uk/wp-content/uploads/2025/05/fox-willian.webp
END:VEVENT
END:VCALENDAR