BEGIN:VCALENDAR
VERSION:2.0
PRODID:-//CAMRA North Herts - ECPv6.15.20//NONSGML v1.0//EN
CALSCALE:GREGORIAN
METHOD:PUBLISH
X-ORIGINAL-URL:https://northherts.camra.org.uk
X-WR-CALDESC:Events for CAMRA North Herts
REFRESH-INTERVAL;VALUE=DURATION:PT1H
X-Robots-Tag:noindex
X-PUBLISHED-TTL:PT1H
BEGIN:VTIMEZONE
TZID:Europe/London
BEGIN:DAYLIGHT
TZOFFSETFROM:+0000
TZOFFSETTO:+0100
TZNAME:BST
DTSTART:20240331T010000
END:DAYLIGHT
BEGIN:STANDARD
TZOFFSETFROM:+0100
TZOFFSETTO:+0000
TZNAME:GMT
DTSTART:20241027T010000
END:STANDARD
BEGIN:DAYLIGHT
TZOFFSETFROM:+0000
TZOFFSETTO:+0100
TZNAME:BST
DTSTART:20250330T010000
END:DAYLIGHT
BEGIN:STANDARD
TZOFFSETFROM:+0100
TZOFFSETTO:+0000
TZNAME:GMT
DTSTART:20251026T010000
END:STANDARD
BEGIN:DAYLIGHT
TZOFFSETFROM:+0000
TZOFFSETTO:+0100
TZNAME:BST
DTSTART:20260329T010000
END:DAYLIGHT
BEGIN:STANDARD
TZOFFSETFROM:+0100
TZOFFSETTO:+0000
TZNAME:GMT
DTSTART:20261025T010000
END:STANDARD
END:VTIMEZONE
BEGIN:VEVENT
DTSTART;TZID=Europe/London:20250802T140000
DTEND;TZID=Europe/London:20250802T220000
DTSTAMP:20260425T113139
CREATED:20250505T103925Z
LAST-MODIFIED:20250730T121424Z
UID:1393-1754143200-1754172000@northherts.camra.org.uk
SUMMARY:Old Town Stevenage August Social
DESCRIPTION:Join Branch members from 2pm for an afternoon wander around the old town starting at the Dun Cow\, then up to Old Town Bar\, and work back towards station\, via Broken Seal\, Red Lion\, Marquis of Lorne and the Chequers.
URL:https://northherts.camra.org.uk/event/august-social/
CATEGORIES:Branch Events,Local Events
ATTACH;FMTTYPE=image/jpeg:https://northherts.camra.org.uk/wp-content/uploads/2025/05/HEN-746-1170-dun-cow-stevenage.jpg
END:VEVENT
BEGIN:VEVENT
DTSTART;VALUE=DATE:20250805
DTEND;VALUE=DATE:20250810
DTSTAMP:20260425T113139
CREATED:20241110T162920Z
LAST-MODIFIED:20250126T231133Z
UID:968-1754352000-1754783999@northherts.camra.org.uk
SUMMARY:GBBF 2025
DESCRIPTION:Get ready for the ultimate beer lover’s paradise at the Great British Beer Festival 2025! Here’s why this year’s festival is an unmissable event: \n🍺 Showcase of Top Breweries\nMeet the makers behind your favourite brews! With breweries from across the UK showcasing their finest creations\, this is your chance to discover new flavours and talk directly with the brewers themselves. \n🌍 Beers from All Over the World\nExplore beers from the UK and beyond! We’ve handpicked an impressive range of brews from all four corners of the UK\, plus exclusive international beers shipped in just for the festival. Many of these beers are only available at the Great British Beer Festival 2025 – a true one-of-a-kind experience! \n🍻 Exclusive Brews\nWe’ve gone the extra mile to bring you rare\, exclusively imported beers\, including specially brewed casks from overseas that you won’t find anywhere else in the UK. These brews are available only at the Great British Beer Festival – you won’t want to miss them! \n🎶 Live Entertainment & Food\nIt’s not just about the beer! Enjoy a full festival experience with live entertainment and delicious food to complement your drinks. Grab a bite from our diverse food stalls while soaking in the vibrant atmosphere. \n🎟️ Get Your Tickets Now!\nJoin us at the NEC in Birmingham for a celebration of beer like no other. Whether you’re a craft beer aficionado or simply love a great festival vibe\, the Great British Beer Festival 2025 is the place to be. \n⭐⭐ This November\, anyone who purchases a ticket will be entered to win a free year of CAMRA membership. Already a CAMRA member? No worries – you could win a gift membership to share with a friend. Don’t miss out on this exclusive chance to celebrate beer and the community that loves it.⭐⭐\n*T&Cs
URL:https://northherts.camra.org.uk/event/gbbf-2025/
LOCATION:NEC Birmingham\, Pendigo Way\, Marston Green\, Birmingham\, B40 1NT\, United Kingdom
CATEGORIES:Beer & Cider Festivals
ATTACH;FMTTYPE=image/png:https://northherts.camra.org.uk/wp-content/uploads/2024/11/Facebook-Header-GBBF-2025-new-logo.png
ORGANIZER;CN="CAMRA Events":MAILTO:events@camra.org.uk
END:VEVENT
BEGIN:VEVENT
DTSTART;TZID=Europe/London:20250809T140000
DTEND;TZID=Europe/London:20250809T170000
DTSTAMP:20260425T113139
CREATED:20250727T091334Z
LAST-MODIFIED:20250729T154042Z
UID:1527-1754748000-1754758800@northherts.camra.org.uk
SUMMARY:Kevin's Farewell @ the Engineers Arms
DESCRIPTION:East Beds CAMRA are having a farewell awards presentation for Kevin Machin at the Engineers Arms\, Henlow. North Herts CAMRA members are welcome to attend.
URL:https://northherts.camra.org.uk/event/kevins-farewell-the-engineers-arms/
LOCATION:Engineers Arms\, Henlow\, 68 High St\, Henlow\, SG16 6AA\, United Kingdom
CATEGORIES:Local Events
ATTACH;FMTTYPE=image/jpeg:https://northherts.camra.org.uk/wp-content/uploads/2025/07/BEE-210-84887-engineers-arms-henlow.jpg
END:VEVENT
BEGIN:VEVENT
DTSTART;TZID=Europe/London:20250809T180000
DTEND;TZID=Europe/London:20250809T220000
DTSTAMP:20260425T113139
CREATED:20250730T121044Z
LAST-MODIFIED:20250730T121208Z
UID:1538-1754762400-1754776800@northherts.camra.org.uk
SUMMARY:Regional POTY Presentation
DESCRIPTION:Further to our recent announcement that The Orange Tree\, Baldock had been voted CAMRA East Central Regional Pub of the Year 2025\, we’ll make the award presentation on Saturday 9th at 6PM. Special ales are promised. Well\, what else would we expect?! \n \n 
URL:https://northherts.camra.org.uk/event/regional-poty-presentation/
LOCATION:Orange Tree\, Baldock\, Norton Road\, Baldock\, SG7 5AW
CATEGORIES:Branch Events
ATTACH;FMTTYPE=image/png:https://northherts.camra.org.uk/wp-content/uploads/2025/07/POTY-East-Central.png
END:VEVENT
BEGIN:VEVENT
DTSTART;TZID=Europe/London:20250819T173000
DTEND;TZID=Europe/London:20250823T220000
DTSTAMP:20260425T113139
CREATED:20250406T125828Z
LAST-MODIFIED:20250406T134115Z
UID:1325-1755624600-1755986400@northherts.camra.org.uk
SUMMARY:Peterborough Beer Festival
DESCRIPTION:The 46th Peterborough beer festival runs from 5:30pm on Tuesday 19th August 2025. \nThe festival is held in massive marquees on the river embankment in Peterborough. The site is about a 20 minute walk from Peterborough railway station and bus/coach station. Taxis are available at the railway station and bus station and we provide a drop off/taxi rank near the Key Theatre at the entrance to the Embankment.
URL:https://northherts.camra.org.uk/event/peterborough-beer-festival/
LOCATION:The Embankment\, The Embankment\, Embankment Road\, Peterborough\, PE1 1EF
CATEGORIES:Beer & Cider Festivals,Local Events
ATTACH;FMTTYPE=image/jpeg:https://northherts.camra.org.uk/wp-content/uploads/2025/04/32673.jpg
END:VEVENT
BEGIN:VEVENT
DTSTART;TZID=Europe/London:20250820T200000
DTEND;TZID=Europe/London:20250820T230000
DTSTAMP:20260425T113139
CREATED:20250505T104530Z
LAST-MODIFIED:20250505T104530Z
UID:1397-1755720000-1755730800@northherts.camra.org.uk
SUMMARY:Royston Summer Social Evening
DESCRIPTION:Join Branch members as we sample the ales starting at The Heath Café Bar\, off Baldock Road\, SG8 5BG at 8pm. We suggest non-locals arriving by train choose one to arrive by 7:30 for the walk out of town. We’ll then walk back to the King James\, Jolly Postie & the Manor House.
URL:https://northherts.camra.org.uk/event/royston-summer-social-evening/
LOCATION:The Heath Café Bar\, Royston\, Baldock Road\, Royston\, SG8 5BG\, United Kingdom
CATEGORIES:Branch Events,Local Events
ATTACH;FMTTYPE=image/webp:https://northherts.camra.org.uk/wp-content/uploads/2025/05/Heath-Cafe-Bar.webp
END:VEVENT
BEGIN:VEVENT
DTSTART;VALUE=DATE:20250821
DTEND;VALUE=DATE:20250824
DTSTAMP:20260425T113139
CREATED:20250427T213230Z
LAST-MODIFIED:20250727T090700Z
UID:1378-1755734400-1755993599@northherts.camra.org.uk
SUMMARY:Baldock Beer Festival
DESCRIPTION:The 2025 Baldock independent beer festival is happening from Thursday 21st to Saturday 23rd August. \n40 Cask Ales – 24 Real Ciders\n21 Keg Beers\nWine and Gin Bar\nLive Music \nSee https://baldockbeerfestival.org/ for full details.
URL:https://northherts.camra.org.uk/event/baldock-beer-festival/
CATEGORIES:Beer & Cider Festivals
ATTACH;FMTTYPE=image/jpeg:https://northherts.camra.org.uk/wp-content/uploads/2025/04/1000021932.jpg
END:VEVENT
BEGIN:VEVENT
DTSTART;VALUE=DATE:20250830
DTEND;VALUE=DATE:20250831
DTSTAMP:20260425T113139
CREATED:20250505T105614Z
LAST-MODIFIED:20250626T102156Z
UID:1404-1756512000-1756598399@northherts.camra.org.uk
SUMMARY:3 Brewers Music\, Food and Beer Festival  - Social Trip
DESCRIPTION:Join South and North Herts Branch members for an afternoon of cask ale at the 3 Brewers brewery\, the Potato Shed\, Symondshyde Farm\, Symondshyde Lane\, near Hatfield. \nMore details nearer the time.
URL:https://northherts.camra.org.uk/event/3-brewers-music-food-and-beer-festival-social-trip/
LOCATION:3 Brewers\, St Albans\, The Potato Shed\, Symonds Hyde Farm\, Symonds Hyde Lane\,\, Hatfield\, AL10 9BB
CATEGORIES:Branch Events,Local Events
ATTACH;FMTTYPE=image/jpeg:https://northherts.camra.org.uk/wp-content/uploads/2025/05/3brewers-scaled.jpg
END:VEVENT
END:VCALENDAR